Workbook

Sheet Summary
A2: Summary by Program Activity | B2: 2017 Actuals | C2: 2018 Approved | D2: 2019 Approved | E2: 2020 Proposed
A4: Program Administration | B4: =Admin!C31 -> 2630630.8 | C4: =Admin!D31-C5 -> 3376546.1 | D4: =Admin!F31-D5 -> 3082467.5 | E4: =Admin!G31-E5 -> 3384919
A5: (Program Administration - salary retained with FWS) | B5: 65000 | C5: 77495 | D5: 77495 | E5: 77495
A7: Rehabilitation Implementation | B7: =Rig!C51 -> 7312639.5 | C7: 5628191.8 | D7: =Rig!F51 -> 7620499.4 | E7: =Rig!G51 -> 5598043.3
A9: Science Program - includes transferred FWS tribal funds | B9: =Science!C63 -> 4623544.6 | C9: =Science!D63-C10 -> 5233615.4 | D9: =Science!F63-D10 -> 3457425.1 | E9: =Science!G63-E10 -> 4428037.7
A10: (Science Program - salary/ops funds retained with FWS) | B10: 917809 | C10: 1186440.5 | D10: 1115497 | E10: 1115497
A12: TOTAL TMC Budget minus FWS salaries/ops | B12: =SUM(B4+B7+B9) -> 14566815 | C12: =SUM(C4+C7+C9) -> 14238353 | D12: =SUM(D4+D7+D9) -> 14160392 | E12: =SUM(E4+E7+E9) -> 13411000
A16: TMC Budget (minus FWS retained salaries/ops funds): | B16: 2017 | C16: 2018 | D16: 2019 | E16: 2020
A18: USBR (Water & Related A30 funds) | B18: 12030000 | C18: 12197000 | D18: 11911000 | E18: 11911000
A19: USBR (CVPIA H37 funds) | B19: 1500000 | C19: 1500000 | D19: 1500000 | E19: 1500000
A20: FWS - annual transfer to USBR* | B20: 613514 | C20: 478487 | D20: 749392
A21: TOTAL | B21: =SUM(B18:B20) -> 14143514 | C21: =SUM(C18:C20) -> 14175487 | D21: =SUM(D18:D20) -> 14160392 | E21: =SUM(E18:E20) -> 13411000
A22: *FWS annual funds transferred to USBR for Tribal monitoring/survey projects. Obligated with FWS prior FY end-of-year funds.
A26: FWS TRRP Funds outside of TMC Budget* | B26: 2017 | C26: 2018 | D26: 2019 | E26: 2020
A27: TOTAL FWS retained TRRP funds - salary/ops | B27: =SUM(B5+B10) -> 982809 | C27: =SUM(C5+C10) -> 1263935.5 | D27: =SUM(D5+D10) -> 1192992 | E27: =SUM(E5+E10) -> 1192992
A28: *FWS funds retained at FWS annually; not part of expenditures approved by TMC

Sheet Admin
A1: PROGRAM ADMINISTRATION | C1: 2017 Actuals | D1: 2018 Adjusted Approved | E1: 2018 Actuals | F1: 2019 Approved | G1: 2020 Proposed
A2: TRRP Administration Personnel
A3: TRRP Program Office Personnel ED, Secretary, Indian Self-Determination Specialist, Grants and Agreements Specialist | C3: 650108.71 | D3: 640516.4 | F3: 674276.41 | G3: =F3*1.03 -> 694504.7
A4: Reclamation Regional Office Personnel Contracting | C4: 173982 | D4: 190000 | F4: =C4*1.03 -> 179201.46 | G4: 179201.46
A5: Reclamation Northern California Area Office Personnel (IT, maintenance, electricians, phone tech) | C5: 94980 | D5: 30000 | F5: =C5*1.03 -> 97829.4 | G5: 97829.4
A6: FWS Administration personnel | C6: 0 | D6: 77495 | F6: 77495 | G6: 77495
B7: Subtotal | C7: =SUM(C3:C6) -> 919070.71 | D7: =SUM(D3:D6) -> 938011.4 | E7: =SUM(E3:E6) -> 0 | F7: =SUM(F3:F6) -> 1028802.3 | G7: =SUM(G3:G6) -> 1049030.6
A8: TRRP Administration
A9: TRRP Program Office Operations (TRRP office rent, vehicles, security, utilities, supplies) | C9: 379890 | D9: =521898.35+25000.09 -> 546898.44 | F9: 515220 | G9: =F9*1.03 -> 530676.6
A10: TRRP Annual Report (BOR Denver TSC) | C10: 0 | D10: 47844 | F10: 0 | G10: 0
A11: TMC Notetaker - TRRP contract | C11: 23200 | D11: 31926 | F11: 15274 | G11: 21948.4
A12: Public Education and Outreach/Website - TCRCD Work expands community knowledge of Program and educates schoolchildren, promoting environmental stewardship with a goal of improving support/success of restoration efforts. | C12: 130894 | D12: 125219 | F12: 131316 | G12: 139218.35
B13: Subtotal | C13: =SUM(C9:C12) -> 533984 | D13: =SUM(D9:D12) -> 751887.44 | F13: =SUM(F9:F12) -> 661810 | G13: =SUM(G9:G12) -> 691843.35
A14: Trinity Management Council
A15: NOAA Fisheries - IA | C15: 47000 | D15: 97000 | F15: 0 | G15: 48500
A16: Forest Service - IA | C16: 73000 | D16: 100000 | F16: 0 | G16: 50000
A17: Hoopa Valley Tribe - AFA | C17: 117919 | D17: 124928.52 | F17: 150785 | G17: =F17*1.045 -> 157570.32
A18: Yurok Tribe - AFA | C18: 119298 | D18: 122454 | F18: 134389.27 | G18: =F18*1.03 -> 138420.95
A19: CA Dept of Fish & Wildlife - FA | C19: 33017 | D19: 81917 | F19: 85239 | G19: =F19*1.03 -> 87796.17
A20: CA Dept of Water Resources - FA | C20: 79660 | D20: 129320 | F20: 0 | G20: 64660
A21: Trinity County -FA | C21: 6745.71 | D21: 6745.71 | F21: 7112.11 | G21: =F21*1.03 -> 7325.4733
B22: Subtotal | C22: =SUM( C15:C21) -> 476639.71 | D22: =SUM( D15:D21) -> 662365.23 | F22: =SUM( F15:F21) -> 377525.38 | G22: =SUM( G15:G21) -> 554272.92
A23: Technical Assistance
A24: Hoopa Valley Tribe -AFA | C24: 338950 | D24: 350909.06 | F24: 425934 | G24: =F24*1.045 -> 445101.03
A25: Yurok Tribe-AFA | C25: 278987 | D25: 386249 | F25: 417640.9 | G25: =F25*1.03 -> 430170.13
A26: CDFW -FA | C26: 0 | D26: 189022 | F26: 198250 | G26: =F26*1.03 -> 204197.5
A27: NOAA Fisheries - IA | C27: =129999.4-C15 -> 82999.4 | D27: 175597 | F27: 0 | G27: 87798.5
A28: Refinements Facilitator placeholder estimate - BOR | C28: 0 | D28: 0 | E28: 0 | F28: 50000
B29: Subtotal | C29: =SUM(C24:C28) -> 700936.4 | D29: =SUM(D24:D28) -> 1101777.1 | F29: =SUM(F24:F29) -> 0 | G29: =SUM(G24:G28) -> 1167267.2
A31: TOTAL PROGRAM ADMINISTRATION | C31: =SUM(C7,C13,C22,C29) -> 2630630.8 | D31: =SUM(D7,D13,D22,D29) -> 3454041.1 | F31: =SUM(F7,F13,F22,F29) -> 3159962.5 | G31: =SUM(G7,G13,G22,G29) -> 3462414
A32: Partial or full 2-year funding, FY18 and FY19

Sheet Rig
A1: IMPLEMENTATION & WATERSHED BUDGET | C1: 2017 | D1: 2018 | E1: 2018 | F1: 2019 | G1: 2020
C2: Actuals | D2: Adjusted Approved | E2: Actuals | F2: Approved | G2: Proposed
A3: Implementation Personnel
A4: TRRP Program Office Personnel (Implementation Branch Chief, Outreach Coordinator, Surveyor, Civil Engineer, Senior Natural Resource Specialist) | C4: 1108859.6 | D4: 865424.22 | F4: 897053.18 | G4: =F4*1.03 -> 923964.78
B5: Subtotal | C5: =C4 -> 1108859.6 | D5: =D4 -> 865424.22 | F5: =F4 -> 897053.18 | G5: =G4 -> 923964.78
A6: Miscellaneous
A7: FEMA/Flood Compliance Updates - Denver TSC | C7: 39500 | D7: 138000 | F7: 0 | G7: 69000
A8: Trinity County Technical Assistance (TRRP grant, floodplain development permit, FEMA) | C8: 35119.59 | D8: 35126.72 | F8: 35683.3 | G8: 35800
A9: Junction City House (estimate for elevation) | C9: 0 | D9: 0 | F9: 200000 | G9: 0
A10: Realty Acquisitions (Easements, material storage) | C10: 39067 | D10: 36025 | F10: 50000 | G10: 50000
B11: Subtotal | C11: =SUM(C7:C10) -> 113686.59 | D11: =SUM(D7:D10) -> 209151.72 | E11: =SUM(E7:E10) -> 0 | F11: =SUM(F7:F10) -> 285683.3 | G11: =SUM(G7:G10) -> 154800
A12: Planning
A13: NEPA/CEQA Compliance/Permits/ (TRRP contract, wetland delineation, bird surveys, native seed, cultural res surveys) | C13: 571941 | D13: 438728 | F13: 401890 | G13: =F13*1.03 -> 413946.7
A14: BAs Development (TRRP contract, spotted owl/coho/watershed wide) + $39k actual contract bid | C14: 0 | D14: 75000 | F14: 39157 | G14: =F14*1.03 -> 40331.71
A15: Native Seed Supply | C15: 0 | D15: 0 | F15: 0 | G15: 0
A16: BLM Technical Assistance - IA (NEPA, permits) | C16: 57055 | D16: 119294 | E16: 119302 | F16: 10000 | G16: 0
A17: BLM Wood Harvesting Agreement purchase of trees | C17: 0 | D17: 0 | G17: 0
A18: Geo-Physical Support Services
A19: ~As-Built Survey for Channel Rehab (FY19 funding for FY19 work and new contract also starting in FY19) | C19: 105000 | D19: 0 | F19: 200000 | G19: 0
A20: ~Summer Aerial Photography of 40 Miles | C20: 35000 | D20: 40000 | F20: 50000 | G20: =50000-13937.83 -> 36062.17
A21: ~Property Boundary Surveys | C21: 50000 | D21: 49709 | F21: 50000 | G21: 23342.3
A22: ~Bathymetry, Aerial Lidar and Data Assembly (Funded Every 5 Years) | C22: 135500 | D22: 0 | F22: 0 | G22: 0
A23: Map and Quantify Riparian Vegetation | C23: 48079 | D23: 0 | F23: 0 | G23: 0
A24: TRRP-2018-008: Riparian Bird Monitoring | C24: 36292 | D24: 0 | F24: 0 | G24: 0
A25: Herpetological Monitoring | C25: 0 | D25: 0 | F25: 0 | G25: 0
B26: Subtotal | C26: =SUM(C13:C25) -> 1038867 | D26: =SUM(D13:D25) -> 722731 | E26: =SUM(E13:E25) -> 119302 | F26: =SUM(F13:F25) -> 751047 | G26: =SUM(G13:G25) -> 513682.88
A27: Design and Support Services
A28: Hoopa Valley Tribe Support Services | C28: 196800 | D28: 242704 | F28: 183742 | G28: =F28*1.045 -> 192010.39
A29: Yurok Tribe Support Services | C29: 235578 | D29: 242037 | F29: 282246.94 | G29: =F29*1.03 -> 290714.35
A30: CA Dept of Water Resources Support Services | C30: 111430 | D30: =70340+100219.28 -> 170559.28 | F30: 0 | G30: 100219.28
A31: USFS Technical Assistance Design, lg. wood/NEPA | C31: 87891.29 | D31: 227875.61 | F31: 0 | G31: 113937.81
A32: TSC Design support OR Gulch | C32: 0 | D32: 35000 | F32: 0 | G32: 0
B33: Subtotal | C33: =SUM(C28:C32) -> 631699.29 | D33: =SUM(D28:D32) -> 918175.89 | E33: =SUM(E28:E32) -> 0 | F33: =SUM(F28:F32) -> 465988.94 | G33: =SUM(G28:G32) -> 696881.83
A34: Construction
A35: Construction Projects - available funding | C35: 3914826 | D35: 713419 | F35: =4120000-8990.8-0.09+100219.28-50000+115000-36000 -> 4240228.4 | G35: =2500000-180000 -> 2320000
A36: Value Engineering Study - Reclamation requirement | C36: 0 | D36: 40000 | F36: 40000 | G36: 40000
A37: Sky Ranch and Sawmill road repair construction costs | C37: 0 | D37: 67675 | F37: 0
A38: Rehab Site Enhancements | C38: 0 | D38: 114000 | F38: 0
A39: BOR Willows Construction Office Inspection Services | C39: 7776 | D39: 0 | F39: 125000 | G39: 100000
A40: Large Wood Supply YT | C40: 199982 | D40: 391000 | F40: 0
...

Sheet Science
A1: SCIENCE BUDGET | C1: 2017 | D1: 2018 | E1: 2018 | F1: 2019 | G1: 2020
C2: Actuals | D2: Adjusted Approved | E2: Pay Forward FY19 costs | F2: Approved | G2: Proposed
A3: Science Program Support
A4: TRRP Program Office Personnel (Data Steward, Hydrologist, Geomorphologist, Natural Resource Specialist) | C4: 732854.88 | D4: 693608 | F4: 727397.03 | G4: =F4*1.03 -> 749218.94
A5: TRRP Program Office Personnel (HVT) - Riparian Ecologist | C5: 135740 | D5: 144000 | F5: 179320 | G5: =F5*1.045 -> 187389.4
A6: FWS Science Personnel (FY19 $882,445) portions of Supervisory Fish and Wildlife Biologists, Supervisory Fish Biologists, and Fishery technicians positions, and Office Operations (FY19 $233,052) | C6: 917809 | D6: 1186440.5 | F6: 1115497 | G6: =F6*1.03 -> 1148961.9
A7: SAB Participation (5 SAB members) moving $115k from FY19 to FY20 | C7: =22072.71+28120+23022.08 -> 73214.79 | D7: 74497.94 | F7: 0 | G7: 115000
A8: Reviews (Program science reports peer reviews-FWS) | C8: 0 | D8: 0 | F8: 15000 | G8: 15000
B9: Sub-total | C9: =SUM(C4:C8) -> 1859618.7 | D9: =SUM(D4:D8) -> 2098546.5 | F9: =SUM(F4:F8) -> 2037214 | G9: =SUM(G4:G8) -> 2215570.3
A10: Science Synthesis Reports
A11: Fully funded in FY18 | B11: Sub-total | C11: 0 | D11: 570377.34 | F11: 0 | G11: 0
A12: Status and Trend Monitoring: Adaptive Management
A13: TRRP-2018-014: Monitor redd distribution, abundance and densities CDFW, YT, HVT, FS, FWS | C13: 257849.95 | D13: =261331.15+58872 -> 320203.15 | E13: 58872 | F13: 225518.45 | G13: 292277.88
A14: California Department of Fish and Wildlife | C14: 47944.61 | D14: =45712.31+47083 -> 92795.31 | E14: 47083 | F14: 0 | G14: =E14*1.03 -> 48495.49
A15: Yurok Tribe | C15: 76295.88 | D15: =67790.55+4522 -> 72312.55 | E15: 4522 | F15: =74301.19-E15 -> 69779.19 | G15: =F15+E15*1.03 -> 74436.85
A16: Hoopa Valley Tribe | C16: 80269 | D16: 83362.55 | E16: 0 | F16: =96606.2 -> 96606.2 | G16: =F16*1.045 -> 100953.48
A17: Forest Service | C17: 0 | D17: =7055+7267 -> 14322 | E17: 7267 | G17: =E17*1.03 -> 7485.01
A18: Fish and Wildlife Service | C18: 53340.46 | D18: 57410.74 | E18: 0 | F18: 59133.06 | G18: =F18*1.03 -> 60907.052
A19: TRRP-2018-012:Outmigrant Monitoring HVT, YT, FWS | C19: =439042+312862 -> 751904 | D19: =755466+44407.82 -> 799873.82 | E19: 44407.82 | F19: 799673.33 | G19: =G22+G21+G20 -> 831552.69
A20: Hoopa Valley Tribe | D20: 455772.52 | F20: 525944 | G20: =F20*1.045 -> 549611.48
A21: Yurok Tribe | D21: 250901.02 | E21: 44407.82 | F21: =266206.25-E21 -> 221798.43 | G21: =F21*1.03 -> 228452.38
A22: Fish and Wildlife Service | D22: 48792 | F22: 51930.9 | G22: =F22*1.03 -> 53488.827
A23: TRRP-2018-030: ~Gravel Implementation Monitoring (TRRP contract) | C23: 102000 | D23: 214870 | E23: 109300 | F23: 0
A24: TRRP-2018-036: Stream Gaging BOR Region Contract | C24: 234000 | D24: 244850 | F24: 265600 | G24: =F24*1.03 -> 273568
B25: Sub-total | C25: =C13+C19+C23+C24 -> 1345753.9 | D25: =D13+D19+D23+D24 -> 1579797 | E25: =E13+E19+E23+E24 -> 212579.82 | F25: =F13+F19+F23+F24 -> 1290791.8 | G25: =G13+G19+G23+G24 -> 1397398.6
A26: Effectiveness Monitoring
A27: TRRP-2018-035: Channel rehab habitat effectiveness (YT, HVT, FWS) pending peer review | C27: =55139+34731 -> 89870 | D27: 137189.89 | F27: 175000
A28: Yurok Tribe | D28: 27714.77
A29: Hoopa Valley Tribe | D29: 49985.57
A30: FWS (IP TSC contract missed FY18 funding-BOR to fund) | D30: 59489.55 | F30: 36000
A31: TRRP-2018-023: Riparian Recruitment (HVT) | C31: 0 | D31: 63229 | F31: 0
A32: TRRP-2018-028: Soil Amendments (HVT) | C32: 0 | D32: 26345 | F32: 0
D33: 26345 | F33: 0
A34: TRRP-2018-029: Macroinvertebrate Drift (YT, HVT) pending peer review | C34: 0 | D34: 183713 | F34: 174885
A35: Yurok Tribe | D35: 145580 | F35: 139580
A36: Hoopa Valley Tribe | D36: 38132 | F36: 35305
B37: Sub-total | C37: =C34+C32+C31+C27 -> 89870 | D37: =D34+D32+D31+D27 -> 410476.89 | F37: =F34+F32+F31+F27+F30 -> 385885 | G37: =G34+G32+G31+G27 -> 0
A38: Model/Research
A39: TRRP-2018-013: S3 Model (FWS, USGS, YT, HVT) | D39: 74426 | F39: 0
A40: Fish and Wildlife Services | D40: 0
...
